BEGIN:VCALENDAR
VERSION:2.0
PRODID:icalendar-ruby
CALSCALE:GREGORIAN
METHOD:PUBLISH
BEGIN:VEVENT
DTSTAMP:20210226T234741Z
UID:http://www.speechley.com.auproperty?property_id=309860
DTSTART:20190202T140000
DTEND:20190202T143000
CLASS:PUBLIC
CREATED:20181113T140434
DESCRIPTION: 
LAST-MODIFIED:20210222T091618
LOCATION:458 George Street\, SOUTH WINDSOR NSW 2756\, Australia
SUMMARY:458 George Street\,  Auction
URL:http://www.speechley.com.auproperty?property_id=309860
END:VEVENT
END:VCALENDAR
